Workbook

Sheet Abfrage Vereine
A1: Sportjugend Dresden | B1: Tel.: 0351 – 4 75 81 71 | AC1: Stand: 11/2024
A2: Tittmannstraße 39 HH | B2: E-Mail: info@sportjugend-dresden.de
A3: 01309 Dresden | B3: www.sportjugend-dresden.de
A6: ÜBERSICHT DER VEREINSSPORTANGEBOTE für Kinder & Jugendliche in Dresden
A9: Verein | B9: Sportart | C9: Alter | E9: Geschlecht | F9: Trainingszeit 1 | I9: Trainingszeit 2 | L9: Trainingszeit 3 | O9: Trainingszeit 4 | R9: Trainingszeit 5 | U9: Sportstätte | Y9: Ansprechpartner:in | AB9: Homepage | AC9: Anmerkung (z.B.: Treffpunkt, persönliche Vorraussetzungen)
C10: von | D10: bis | F10: von | G10: bis | H10: Tag | I10: von | J10: bis | K10: Tag | L10: von | M10: bis | N10: Tag | O10: von | P10: bis | Q10: Tag | R10: von | S10: bis | T10: Tag | U10: Name | V10: Straße | W10: PLZ | X10: Stadt | Y10: Name | Z10: Telefonnummer | AA10: E-Mail Adresse
A11: SV Motor Mickten-Dresden e.V. | B11: Aerobic | C11: 14 | D11: 80 | E11: weiblich | F11: 19:00 | G11: 20:00 | H11: Mittwoch | I11: 20:00 | J11: 21:00 | K11: Mittwoch | U11: Sporthalle 9. Oberschule | V11: Lommatzscher Straße 121 | W11: 01139 | X11: Dresden | Y11: Peggy Stephan, Cornelia Menzel | AA11: aerobic-superfit@motor-mickten.de | AB11: https://www.motor-mickten.de/
A12: SV FS Rossendorf e.V. | B12: Aikido | C12: 8 | D12: 18 | E12: männlich|weiblich|divers | F12: 18:00 | G12: 19:30 | H12: Mittwoch | U12: Sporthalle 62. Grundschule | V12: Pillnitzer Landstraße 38 | W12: 01326 | X12: Dresden | Y12: Stefan Müller | AA12: aikido-jugend@sv-rossendorf.de | AB12: https://www.hzdr.de/sportverein
A13: SV HELIOS 24 Dresden e.V. | B13: Akrobatik / Sportakrobatik | C13: 7 | D13: 14 | E13: weiblich | F13: 17:00 | G13: 19:00 | H13: Mittwoch | I13: 17:00 | J13: 19:00 | K13: Freitag | U13: Sporthalle Oskar-Röder-Straße | V13: Oskar-Röder-Straße 4 a | W13: 01237 | X13: Dresden | Y13: Ulf Süß | AA13: svh-jugendleiter@gmx.net | AB13: www.sv-helios.de
A14: SV TuR Dresden e.V. | B14: Akrobatik / Sportakrobatik | C14: 5 | D14: 18 | E14: weiblich | F14: 17:00 | G14: 19:30 | H14: Montag | I14: 17:00 | J14: 19:30 | K14: Freitag | U14: Schwimmhalle Klotzsche | V14: Zum Windkanal 14 | W14: 01109 | X14: Dresden | AA14: svtur-sportakrobatik@gmx.de | AB14: https://www.sv-tur.de/sportakrobatik
A15: SV TuR Dresden e.V. | B15: Akrobatik / Sportakrobatik | C15: 5 | D15: 18 | E15: männlich|weiblich|divers | F15: 16:00 | G15: 19:00 | H15: Mittwoch | U15: Sporthalle Thäterstraße (ehem. 42.GS) | V15: Mengsstraße 19 | W15: 01139 | X15: Dresden | AA15: svtur-sportakrobatik@gmx.de | AB15: https://www.sv-tur.de/sportakrobatik
A16: Kanuverein Laubegast e.V. | B16: Allgemeine Sportgruppe | C16: 60 | D16: 80 | E16: weiblich | F16: 10:00 | G16: 11:00 | H16: Mittwoch | U16: Bootshaus Laubegaster Ufer 35 | V16: Laubegaster Ufer 35 | W16: 01279 | X16: Dresden | Y16: Yvonne Knoblock | AA16: post@kvl-dresden.de | AB16: https://kanuverein-laubegast.de/
A17: Kanuverein Laubegast e.V. | B17: Allgemeine Sportgruppe | C17: 50 | D17: 90 | E17: männlich | F17: 18:15 | G17: 19:15 | H17: Mittwoch | U17: Bootshaus Laubegaster Ufer 35 | V17: Laubegaster Ufer 35 | W17: 01279 | X17: Dresden | Y17: Ralf Zeidler | AA17: post@kvl-dresden.de | AB17: https://kanuverein-laubegast.de/
A18: SV Motor Mickten-Dresden e.V. | B18: Allgemeine Sportgruppe | C18: 6 | D18: 12 | E18: männlich|weiblich|divers | F18: 14:30 | G18: 16:00 | H18: Mittwoch | U18: Sporthalle Pestalozziplatz | V18: Pestalozziplatz 20 | W18: 01127 | X18: Dresden | Y18: Moncef Bouaziz | AA18: fb@motor-mickten.de | AB18: https://www.motor-mickten.de/
A19: SV Motor Mickten-Dresden e.V. | B19: Allgemeine Sportgruppe | C19: 6 | D19: 11 | E19: männlich|weiblich|divers | F19: 17:30 | G19: 18:30 | H19: Montag | U19: Sporthalle 26. Grundschule | V19: Osterbergstraße 22 | W19: 01127 | X19: Dresden | Y19: Yvonne Gaarz | AA19: fb@motor-mickten.de | AB19: https://www.motor-mickten.de/
A20: SV Motor Mickten-Dresden e.V. | B20: Allgemeine Sportgruppe | C20: 4 | D20: 14 | E20: männlich|weiblich|divers | F20: 17:00 | G20: 18:30 | H20: Mittwoch | U20: Sporthalle Gymnasium Pieschen und 145. Oberschule | V20: Gehestraße 10 | W20: 01127 | X20: Dresden | Y20: Matthias Wenzel | AA20: matthias.wenzel@motor-mickten.de | AB20: https://www.motor-mickten.de/ | AC20: Sport mit Handicap
A21: SC Hirschkäfer e.V. | B21: Allgemeinsport | C21: 3 | D21: 5 | E21: männlich|weiblich|divers | F21: 16:00 | G21: 17:00 | H21: Montag | I21: 16:00 | J21: 17:00 | K21: Mittwoch | U21: Sporthalle ehem. Schule zur Lernförderung | V21: Luboldtstraße 15 | W21: 01324 | X21: Dresden | Y21: Kati Noeske | Z21: 0351 2640329 | AA21: info@sc-hirschkaefer.de | AB21: www.sc-hirschkaefer.de
A22: SC Hirschkäfer e.V. | B22: Allgemeinsport | C22: 4 | D22: 6 | E22: männlich|weiblich|divers | F22: 17:00 | G22: 18:00 | H22: Montag | I22: 16:00 | J22: 17:00 | K22: Freitag | U22: Sporthalle ehem. Schule zur Lernförderung | V22: Luboldtstraße 15 | W22: 01324 | X22: Dresden | Y22: Kati Noeske | Z22: 0352 2640329 | AA22: info@sc-hirschkaefer.de | AB22: www.sc-hirschkaefer.de
A23: SC Hirschkäfer e.V. | B23: Allgemeinsport | C23: 5 | D23: 8 | E23: männlich|weiblich|divers | F23: 17:00 | G23: 18:00 | H23: Mittwoch | U23: Sporthalle ehem. Schule zur Lernförderung | V23: Luboldtstraße 15 | W23: 01324 | X23: Dresden | Y23: Kati Noeske | Z23: 0353 2640329 | AA23: info@sc-hirschkaefer.de | AB23: www.sc-hirschkaefer.de
A24: SC Hirschkäfer e.V. | B24: Allgemeinsport | C24: 6 | D24: 12 | E24: männlich|weiblich|divers | F24: 17:00 | G24: 18:30 | H24: Donnerstag | U24: Sporthalle ehem. Schule zur Lernförderung | V24: Luboldtstraße 15 | W24: 01324 | X24: Dresden | Y24: Kati Noeske | Z24: 0354 2640329 | AA24: info@sc-hirschkaefer.de | AB24: www.sc-hirschkaefer.de
A25: Chinesische Sportgemeinschaft Dresden e.V. | B25: Badminton | C25: 4 | D25: 60 | E25: männlich|weiblich|divers | F25: 14:30 | G25: 16:00 | H25: Sonntag | U25: Sporthalle 70. Grundschule | V25: =VLOOKUP(U25,[9]Sportstätten!A25:D298,2,0) -> Südhöhe 36 | W25: =VLOOKUP(U25,[9]Sportstätten!A25:D298,3,0) -> 01217 | X25: =VLOOKUP(U25,[9]Sportstätten!A25:D298,4,0) -> Dresden | Y25: Shumian Di | AA25: cnsgdd@gmail.de | AB25: www.facebook.com/CHNSgDresden
A26: ESV Dresden e.V. | B26: Badminton | C26: 8 | D26: 14 | E26: männlich|weiblich|divers | F26: 16:30 | G26: 20:00 | H26: Dienstag | U26: Sporthalle Förderzentrum "Am Leutewitzer Park" | V26: Gottfried-Keller-Straße 40 | W26: 01157 | X26: Dresden | Y26: Martin Nichterwitz | Z26: 01729179732 | AA26: badminton@esv-dresden.de | AB26: www.esv-dresden.de | AC26: Winterhalbjahr
A27: ESV Dresden e.V. | B27: Badminton | C27: 8 | D27: 14 | E27: männlich|weiblich|divers | F27: 16:30 | G27: 20:00 | H27: Montag | I27: 16:30 | J27: 19:00 | K27: Dienstag | U27: Sporthalle Gymnasium Cotta | V27: Cossebauder Straße 35 | W27: 01157 | X27: Dresden | Y27: Martin Nichterwitz | Z27: 01729179732 | AA27: badminton@esv-dresden.de | AB27: www.esv-dresden.de | AC27: Sommerhalbjahr
A28: SG Dresdner Verkehrsbetriebe e.V. | B28: Badminton | C28: 14 | D28: 75 | E28: männlich|weiblich|divers | F28: 18:00 | G28: 19:30 | H28: Donnerstag | U28: Sporthalle 62. Grundschule | V28: Pillnitzer Landstraße 38 | W28: 01326 | X28: Dresden | Y28: Friedrich | Z28: 0175/1565450 | AA28: info@verkehrsbetriebe-ev.de | AB28: sg-verkehrsbetriebe.de | AC28: 10 Min. vor Trainingsbeginn
A29: SV Motor Mickten-Dresden e.V. | B29: Badminton | C29: 7 | D29: 10 | E29: männlich|weiblich|divers | F29: 17:00 | G29: 18:30 | H29: Montag | I29: 17:00 | J29: 18:30 | K29: Mittwoch | U29: Sporthalle Gymnasium Pieschen und 145. Oberschule | V29: =VLOOKUP(U29,[13]Sportstätten!A107:D380,2,0) -> Gehestraße 10 | W29: =VLOOKUP(U29,[13]Sportstätten!A107:D380,3,0) -> 01127 | X29: =VLOOKUP(U29,[13]Sportstätten!A107:D380,4,0) -> Dresden | Y29: Marco Gubisch | AA29: badminton.jugend@motor-mickten.de | AB29: https://www.motor-mickten.de/
A30: SV Motor Mickten-Dresden e.V. | B30: Badminton | C30: 11 | D30: 14 | E30: männlich|weiblich|divers | F30: 17:00 | G30: 18:30 | H30: Montag | I30: 17:00 | J30: 18:30 | K30: Mittwoch | U30: Sporthalle Gymnasium Pieschen und 145. Oberschule | V30: =VLOOKUP(U30,[13]Sportstätten!A108:D381,2,0) -> Gehestraße 10 | W30: =VLOOKUP(U30,[13]Sportstätten!A108:D381,3,0) -> 01127 | X30: =VLOOKUP(U30,[13]Sportstätten!A108:D381,4,0) -> Dresden | Y30: Ralf Neubert | AA30: badminton.jugend@motor-mickten.de | AB30: https://www.motor-mickten.de/
A31: SV Motor Mickten-Dresden e.V. | B31: Badminton | C31: 15 | D31: 18 | E31: männlich|weiblich|divers | F31: 18:30 | G31: 20:00 | H31: Montag | I31: 18:30 | J31: 20:00 | K31: Mittwoch | U31: Sporthalle Gymnasium Pieschen und 145. Oberschule | V31: =VLOOKUP(U31,[13]Sportstätten!A109:D382,2,0) -> Gehestraße 10 | W31: =VLOOKUP(U31,[13]Sportstätten!A109:D382,3,0) -> 01127 | X31: =VLOOKUP(U31,[13]Sportstätten!A109:D382,4,0) -> Dresden | Y31: Tom Rühle | AA31: badminton.jugend@motor-mickten.de | AB31: https://www.motor-mickten.de/
A32: SV Motor Mickten-Dresden e.V. | B32: Badminton | C32: 16 | D32: 99 | E32: männlich|weiblich|divers | F32: 20:30 | G32: 22:00 | H32: Montag | U32: Sporthalle Gymnasium Pieschen und 145. Oberschule | V32: =VLOOKUP(U32,[13]Sportstätten!A110:D383,2,0) -> Gehestraße 10 | W32: =VLOOKUP(U32,[13]Sportstätten!A110:D383,3,0) -> 01127 | X32: =VLOOKUP(U32,[13]Sportstätten!A110:D383,4,0) -> Dresden | Y32: Lutz Reiter, Silke Bruns | AB32: https://www.motor-mickten.de/
A33: TSV Dresden e. V. | B33: Badminton | C33: 5 | D33: 10 | E33: männlich|weiblich|divers | F33: 16:30 | G33: 18:30 | H33: Dienstag | I33: 16:30 | J33: 18:00 | K33: Donnerstag | U33: Sporthalle 70. Grundschule | V33: Südhöhe 36 | W33: 01217 | X33: Dresden | Y33: Frau Galle | Z33: 0351-2506182 | AA33: geschaefsstelle@tsv-dresden.de | AB33: www.tsv-dresden.de
A34: TSV Dresden e. V. | B34: Badminton | C34: 11 | D34: 15 | E34: männlich|weiblich|divers | F34: 16:30 | G34: 18:30 | H34: Freitag | U34: Sporthalle 70. Grundschule | V34: Südhöhe 36 | W34: 01217 | X34: Dresden | Y34: Frau Galle | Z34: 0351-2506182 | AA34: geschaefsstelle@tsv-dresden.de | AB34: www.tsv-dresden.de
A35: TSV Dresden e. V. | B35: Badminton | C35: 11 | D35: 15 | E35: männlich|weiblich|divers | F35: 18:00 | G35: 20:00 | H35: Dienstag | U35: Sporthalle 108. Grundschule/ 107. Oberschule | V35: Geisingstraße 45 | W35: 01309 | X35: Dresden | Y35: Frau Galle | Z35: 0351-2506182 | AA35: geschaefsstelle@tsv-dresden.de | AB35: www.tsv-dresden.de
A36: TSV Dresden e. V. | B36: Badminton | C36: 9 | D36: 12 | E36: männlich|weiblich|divers | F36: 16:30 | G36: 18:30 | H36: Freitag | U36: Sporthalle 108. Grundschule/ 107. Oberschule | V36: Geisingstraße 45 | W36: 01309 | X36: Dresden | Y36: Frau Galle | Z36: 0351-2506182 | AA36: geschaefsstelle@tsv-dresden.de | AB36: www.tsv-dresden.de
A37: TSV Dresden e. V. | B37: Badminton | C37: 11 | D37: 18 | E37: männlich|weiblich|divers | F37: 19:00 | G37: 20:30 | H37: Donnerstag | U37: Sporthalle 108. Grundschule/ 107. Oberschule | V37: Geisingstraße 45 | W37: 01309 | X37: Dresden | Y37: Frau Galle | Z37: 0351-2506182 | AA37: geschaefsstelle@tsv-dresden.de | AB37: www.tsv-dresden.de
A38: TSV Dresden e. V. | B38: Badminton | C38: 11 | D38: 19 | E38: männlich|weiblich|divers | F38: 17:00 | G38: 19:00 | H38: Mittwoch | U38: Sporthalle Vitzthum-Gymnasium | V38: =VLOOKUP(U38,[21]Sportstätten!A188:D461,2,0) -> Paradiesstraße 35 | W38: =VLOOKUP(U38,[21]Sportstätten!A188:D461,3,0) -> 01217 | X38: =VLOOKUP(U38,[21]Sportstätten!A188:D461,4,0) -> Dresden | Y38: Frau Galle | Z38: 0351-2506182 | AA38: geschaefsstelle@tsv-dresden.de | AB38: www.tsv-dresden.de
A39: Verein für Breitensport Hellerau-Klotzsche e.V. | B39: Badminton | C39: 11 | D39: 16 | E39: männlich|weiblich|divers | F39: 17:00 | G39: 18:30 | H39: Montag | I39: 16:00 | J39: 17:30 | K39: Mittwoch | U39: Sporthalle 82. Grund- und Oberschule | V39: Gertrud-Caspari-Straße 9 | W39: 01109 | X39: Dresden | Y39: Karsten Teichmann | Z39: 0351 8049944 | AA39: badminton@vfb-hellerau-klotzsche.de | AB39: https://vfb-hellerau-klotzsche.de/badminton/
A40: Verein für Breitensport Hellerau-Klotzsche e.V. | B40: Badminton | C40: 6 | D40: 10 | E40: männlich|weiblich|divers | F40: 17:00 | G40: 18:30 | H40: Dienstag | I40: 16:00 | J40: 17:30 | K40: Mittwoch | U40: Sporthalle 82. Grund- und Oberschule | V40: Gertrud-Caspari-Straße 9 | W40: 01109 | X40: Dresden | Y40: Karsten Teichmann | Z40: 0351 8049944 | AA40: badminton@vfb-hellerau-klotzsche.de | AB40: https://vfb-hellerau-klotzsche.de/badminton/
A41: Tanzstudio Dance Art Dresden e.V. | B41: Ballett | C41: 8 | D41: 99 | E41: männlich|weiblich|divers | F41: 16:30 | G41: 17:30 | H41: Montag | U41: Seidnitz Center | V41: Enderstraße 59 | W41: 01277 | X41: Dresden | Y41: Anke Frenzel | Z41: 01736757427 | AA41: info@dance-art-dresden.de | AB41: www.dance-art-dresden.de | AC41: Anfänger
A42: Tanzstudio Dance Art Dresden e.V. | B42: Ballett | C42: 12 | D42: 99 | E42: männlich|weiblich|divers | F42: 17:30 | G42: 19:00 | H42: Montag | U42: Seidnitz Center | V42: Enderstraße 59 | W42: 01277 | X42: Dresden | Y42: Anke Frenzel | Z42: 01736757427 | AA42: info@dance-art-dresden.de | AB42: www.dance-art-dresden.de | AC42: Fortgeschrittene
A43: Langebrücker Ballsportverein 99 e.V. | B43: Ballsport | C43: 4 | D43: 6 | E43: männlich|weiblich|divers | F43: 16:30 | G43: 17:30 | H43: Mittwoch | U43: Sporthalle Langebrück | V43: Dresdner Straße 36 a | W43: 01465 | X43: Dresden | Y43: Mike Neumann | Z43: 01575-1518332 | AA43: Faustball@Langebruecker-BSV.de | AB43: www.Langebruecker-BSV.de
A44: Baseball und Softball Dresden Dukes e.V. | B44: Baseball | C44: 8 | D44: 15 | E44: männlich|weiblich|divers | F44: 16:30 | G44: 18:30 | H44: Mittwoch | U44: Sportplatz Narzissenweg | V44: =VLOOKUP(U44,Sportstätten!A10:D283,2,0) -> Narzissenweg 9 | W44: =VLOOKUP(U44,[4]Sportstätten!A10:D283,3,0) -> 01259 | X44: =VLOOKUP(U44,[4]Sportstätten!A10:D283,4,0) -> Dresden | Y44: Christoph Ziener | AA44: training@dresdendukes.de | AB44: www.dresdendukes.de
A45: Dresden Urbanics e.V. | B45: Basketball | C45: 16 | D45: 99 | E45: männlich|weiblich|divers | F45: 19:00 | G45: 21:00 | H45: Montag | U45: Sporthalle 139. Grundschule | V45: Omsewitzer Ring 4 | W45: 01169 | X45: Dresden | Y45: Paul Nitzsche | Z45: 0163/1947245 | AA45: info@urbanics-club.de | AB45: www.urbanics-club.de | AC45: Eingang über Kirschenstraße, bitte Sportschuhe mitbringen
A46: Dresden Urbanics e.V. | B46: Basketball | C46: 12 | D46: 15 | E46: männlich|weiblich|divers | F46: 17:00 | G46: 18:30 | H46: Montag | U46: Sporthalle BSZ für Bau und Technik | V46: Güntzstraße 3 | W46: 01069 | X46: Dresden | Y46: Martin Schröder | Z46: 0163/1947245 | AA46: info@urbanics-club.de | AB46: www.urbanics-club.de | AC46: Bitte Sportschuhe mitbringen
A47: Dresden Urbanics e.V. | B47: Basketball | C47: 10 | D47: 11 | E47: männlich|weiblich|divers | F47: 16:00 | G47: 18:00 | H47: Dienstag | U47: Sporthalle Leonhard-Frank-Oberschule | V47: Hauptstraße 6 | W47: 01640 | X47: Coswig | Y47: Oliver Kasper | Z47: 0163/1947245 | AA47: info@urbanics-club.de | AB47: www.urbanics-club.de | AC47: Bitte Sportschuhe mitbringen
A48: Dresden Urbanics e.V. | B48: Basketball | C48: 8 | D48: 9 | E48: männlich|weiblich|divers | F48: 17:15 | G48: 19:00 | H48: Dienstag | U48: Sporthalle Spitzgrund | V48: Platanenweg 1 | W48: 01640 | X48: Coswig | Y48: Oliver Kasper | Z48: 0163/1947245 | AA48: info@urbanics-club.de | AB48: www.urbanics-club.de | AC48: Bitte Sportschuhe mitbringen
A49: Dresden Urbanics e.V. | B49: Basketball | C49: 6 | D49: 7 | E49: männlich|weiblich|divers | F49: 16:00 | G49: 17:15 | H49: Dienstag | U49: Sporthalle Spitzgrund | V49: Platanenweg 1 | W49: 01640 | X49: Coswig | Y49: Oliver Kasper | Z49: 0163/1947245 | AA49: info@urbanics-club.de | AB49: www.urbanics-club.de | AC49: Bitte Sportschuhe mitbringen
A50: Dresden Urbanics e.V. | B50: Basketball | C50: 16 | D50: 99 | E50: männlich|weiblich|divers | F50: 18:30 | G50: 20:30 | H50: Mittwoch | U50: Sporthalle 101. Oberschule | V50: Pfotenhauerstraße 42 | W50: 01307 | X50: Dresden | Y50: Thomas Zaloga | Z50: 0163/1947245 | AA50: info@urbanics-club.de | AB50: www.urbanics-club.de | AC50: 3x3 Basketball, bitte Sportschuhe mitbringen
A51: Dresden Urbanics e.V. | B51: Basketball | C51: 12 | D51: 15 | E51: männlich|weiblich|divers | F51: 17:00 | G51: 18:30 | H51: Donnerstag | U51: Sporthalle 75. Grundschule | V51: Warthaer Straße 60 | W51: 01157 | X51: Dresden | Y51: Martin Schröder | Z51: 0163/1947245 | AA51: info@urbanics-club.de | AB51: www.urbanics-club.de | AC51: Bitte Sportschuhe mitbringen
A52: Dresden Urbanics e.V. | B52: Basketball | C52: 10 | D52: 11 | E52: männlich|weiblich|divers | F52: 17:15 | G52: 19:00 | H52: Donnerstag | Y52: Oliver Kasper | Z52: 0163/1947245 | AA52: info@urbanics-club.de | AB52: www.urbanics-club.de | AC52: Sporthalle auf Anfrage, bitte Sportschuhe mitbringen
A53: Dresden Urbanics e.V. | B53: Basketball | C53: 8 | D53: 9 | E53: männlich|weiblich|divers | F53: 17:15 | G53: 19:00 | H53: Donnerstag | Y53: Oliver Kasper | Z53: 0163/1947245 | AA53: info@urbanics-club.de | AB53: www.urbanics-club.de | AC53: Sporthalle auf Anfrage, bitte Sportschuhe mitbringen
A54: Dresden Urbanics e.V. | B54: Basketball | C54: 6 | D54: 7 | E54: männlich|weiblich|divers | F54: 16:00 | G54: 17:15 | H54: Donnerstag | Y54: Oliver Kasper | Z54: 0163/1947245 | AA54: info@urbanics-club.de | AB54: www.urbanics-club.de | AC54: Sporthalle auf Anfrage, bitte Sportschuhe mitbringen
A55: SV Motor Mickten-Dresden e.V. | B55: Basketball | C55: 16 | D55: 99 | E55: männlich|weiblich|divers | F55: 19:30 | G55: 21:30 | H55: Donnerstag | I55: 17:30 | J55: 19:30 | K55: Sonntag | U55: Sporthalle Gymnasium Pieschen und 145. Oberschule | V55: =VLOOKUP(U55,[13]Sportstätten!A106:D379,2,0) -> Gehestraße 10 | W55: =VLOOKUP(U55,[13]Sportstätten!A106:D379,3,0) -> 01127 | X55: =VLOOKUP(U55,[13]Sportstätten!A106:D379,4,0) -> Dresden | Y55: Jens Schubert | AA55: basketball@motor-mickten.de | AB55: https://www.motor-mickten.de/
A56: USV TU Dresden e.V. | B56: Basketball | C56: 6 | D56: 9 | E56: männlich|weiblich|divers | F56: 17:00 | G56: 18:30 | H56: Dienstag | I56: 17:00 | J56: 18:30 | K56: Donnerstag | U56: Sporthalle 101. Oberschule | V56: Pfotenhauerstraße 42 | W56: 01307 | X56: Dresden | Y56: Leska Tanneberger | AA56: info@basketball-usv.de | AB56: https://www.usv-tu-dresden.de/abteilungen/ballsport/basketball.html | AC56: donnerstags abweichender Trainingsort: BSZ für Bau und Technik am Straßburger Platz
A57: USV TU Dresden e.V. | B57: Basketball | C57: 9 | D57: 11 | E57: weiblich | F57: 17:00 | G57: 18:30 | H57: Mittwoch | I57: 16:45 | J57: 18:15 | K57: Freitag | U57: Sporthalle 101. Oberschule | V57: Pfotenhauerstraße 42 | W57: 01307 | X57: Dresden | Y57: Vera Fieber | AA57: info@basketball-usv.de | AB57: https://www.usv-tu-dresden.de/abteilungen/ballsport/basketball.html | AC57: gemischtes Training Mädchen und Jungs, Mädchen werden gesucht!
A58: USV TU Dresden e.V. | B58: Basketball | C58: 12 | D58: 13 | E58: weiblich | F58: 17:00 | G58: 18:30 | H58: Dienstag | I58: 17:00 | J58: 18:30 | K58: Freitag | U58: Sporthalle 101. Oberschule | V58: Pfotenhauerstraße 42 | W58: 01307 | X58: Dresden | Y58: Henryk Schoder | AA58: info@basketball-usv.de | AB58: https://www.usv-tu-dresden.de/abteilungen/ballsport/basketball.html | AC58: freitags abweichender Trainingsort: EWvT Gymnasium Leubnitzer Straße
A59: USV TU Dresden e.V. | B59: Basketball | C59: 14 | D59: 15 | E59: weiblich | F59: 18:00 | G59: 19:15 | H59: Dienstag | I59: 17:00 | J59: 18:30 | K59: Freitag | U59: Sporthalle Bertolt-Brecht-Gymnasium | V59: Thomaestraße 60 | W59: 01307 | X59: Dresden | Y59: Wendelin Goldmann | AA59: info@basketball-usv.de | AB59: https://www.usv-tu-dresden.de/abteilungen/ballsport/basketball.html | AC59: freitags abweichender Trainingsort: EWvT Gymnasium Leubnitzer Straße
A60: USV TU Dresden e.V. | B60: Basketball | C60: 16 | D60: 17 | E60: weiblich | F60: 18:00 | G60: 19:15 | H60: Dienstag | I60: 17:00 | J60: 18:30 | K60: Freitag | U60: Sporthalle Bertolt-Brecht-Gymnasium | V60: Thomaestraße 60 | W60: 01307 | X60: Dresden | Y60: Maren Kittlick | AA60: info@basketball-usv.de | AB60: https://www.usv-tu-dresden.de/abteilungen/ballsport/basketball.html | AC60: freitags abweichender Trainingsort: EWvT Gymnasium Leubnitzer Straße
A61: USV TU Dresden e.V. | B61: Bergsteigen | C61: 8 | D61: 18 | E61: männlich|weiblich|divers | F61: 16:45 | G61: 18:45 | H61: Mittwoch | U61: Kletterzentrum DAV Dresden | V61: Papiermühlengasse 10 | W61: 01159 | X61: Dresden | Y61: Susanne Protz | Z61: 01749278245 | AA61: Susihimpel1@gmail.com
A62: SG "Fitness" Dresden Ost e.V. | B62: Bewegungsschule | C62: 4 | D62: 7 | E62: männlich|weiblich|divers | F62: 16:30 | G62: 17:45 | H62: Dienstag | U62: Sporthalle 66. Oberschule | V62: Dieselstraße 55 | W62: 01257 | X62: Dresden | AA62: kontakt@sg-fitness.de | AB62: http://sg-fitness.de/
A63: SG "Fitness" Dresden Ost e.V. | B63: Bewegungsschule | C63: 7 | D63: 12 | E63: männlich|weiblich|divers | F63: 16:30 | G63: 17:45 | H63: Mittwoch | U63: Sporthalle 66. Oberschule | V63: Dieselstraße 55 | W63: 01257 | X63: Dresden | AA63: kontakt@sg-fitness.de | AB63: http://sg-fitness.de/
A64: Verein für Breitensport Hellerau-Klotzsche e.V. | B64: Bewegungsschule | C64: 4 | D64: 6 | E64: männlich|weiblich|divers | F64: 17:30 | G64: 18:30 | H64: Montag | I64: 15:30 | J64: 16:30 | K64: Donnerstag | U64: Sporthalle Karl-Liebknecht-Straße | V64: =VLOOKUP(U64,[16]Sportstätten!A151:D424,2,0) -> Karl-Liebknecht-Straße 53 | W64: =VLOOKUP(U64,[16]Sportstätten!A151:D424,3,0) -> 01109 | X64: =VLOOKUP(U64,[16]Sportstätten!A151:D424,4,0) -> Dresden | Y64: Felix Herrlich | Z64: 0176 62905898 | AA64: f_herrlich1992@vfb-hellerau-klotzsche.de | AB64: https://vfb-hellerau-klotzsche.de/bewegungsschule/
A65: Chinesisch-Deutsches Zentrum e.V. | B65: Bogenschießen | C65: 10 | D65: 99 | E65: männlich|weiblich|divers | F65: 20:30 | G65: 22:00 | H65: Dienstag | I65: 20:30 | J65: 22:00 | K65: Freitag | U65: Sporthalle 47. Grundschule | V65: =VLOOKUP(U65,Sportstätten!A23:D296,2,0) -> Mockritzer Straße 19 | W65: =VLOOKUP(U65,[8]Sportstätten!A23:D296,3,0) -> 01219 | X65: =VLOOKUP(U65,[8]Sportstätten!A23:D296,4,0) -> Dresden | Y65: Andreas Opfermann | Z65: 01795353791 | AA65: mail@huadezhongxin.org | AB65: www.huadezhongxin.org
A66: Boxring Dresden 1994 e.V. | B66: Boxen | C66: 10 | D66: 18 | E66: männlich|weiblich|divers | F66: 17:00 | G66: 18:30 | H66: Mittwoch | I66: 17:00 | J66: 18:30 | K66: Freitag | U66: Sportzentrum Blasewitz | V66: =VLOOKUP(U66,Sportstätten!A3:D276,2,0) -> Oehmestraße 1 | W66: 01277 | X66: =VLOOKUP(U66,Sportstätten!A3:D276,4,0) -> Dresden | Y66: L. Reichelt | AA66: vorstand@boxring-dresden1994.de | AB66: https://www.boxring-dresden1994.de/ | AC66: Teilnahme am Probetraining verpflichtend für Mitgliedschaft
A67: Drehmomente e.V. | B67: Breakdance | C67: 6 | D67: 99 | E67: männlich|weiblich|divers | F67: 16:00 | G67: 17:00 | H67: Montag | U67: Sporthalle 12. Grundschule | V67: Hebbelstraße 20 | W67: 01157 | X67: Dresden | Y67: Patrick Schöne | Z67: 0152 34686723 | AA67: info@drehmomente-ev.de | AB67: http://drehmomente-ev.de/ | AC67: Sportschuhe und Sportsachen mitbringen
A68: Drehmomente e.V. | B68: Breakdance | C68: 6 | D68: 99 | E68: männlich|weiblich|divers | F68: 16:00 | G68: 17:00 | H68: Freitag | U68: Sporthalle Gymnasium Bürgerwiese | V68: Parkstraße 4 | W68: 01069 | X68: Dresden | Y68: Patrick Schöne | Z68: 0152 34686723 | AA68: info@drehmomente-ev.de | AB68: http://drehmomente-ev.de/ | AC68: Sportschuhe und Sportsachen mitbringen
A69: Tanzstudio Dance Art Dresden e.V. | B69: Breakdance | C69: 8 | D69: 12 | E69: männlich|weiblich|divers | F69: 09:30 | G69: 10:30 | H69: Samstag | U69: Seidnitz Center | V69: Enderstraße 59 | W69: 01277 | X69: Dresden | Y69: Anke Frenzel | Z69: 01736757427 | AA69: info@dance-art-dresden.de | AB69: www.dance-art-dresden.de | AC69: Anfänger
A70: Tanzstudio Dance Art Dresden e.V. | B70: Breakdance | C70: 12 | D70: 99 | E70: männlich|weiblich|divers | F70: 10:30 | G70: 12:00 | H70: Samstag | U70: Seidnitz Center | V70: Enderstraße 59 | W70: 01277 | X70: Dresden | Y70: Anke Frenzel | Z70: 01736757427 | AA70: info@dance-art-dresden.de | AB70: www.dance-art-dresden.de | AC70: Fortgeschrittene
A71: SV Motor Mickten-Dresden e.V. | B71: Capoeira | C71: 8 | D71: 12 | E71: männlich|weiblich|divers | F71: 16:30 | G71: 17:30 | H71: Dienstag | U71: Kinder- und Jugendhaus Emmers | V71: Bürgerstraße 68 | W71: 01127 | X71: Dresden | Y71: Johann Koch | Z71: 0163 4369476 | AB71: https://www.motor-mickten.de/
A72: SV Motor Mickten-Dresden e.V. | B72: Capoeira | C72: 16 | D72: 99 | E72: männlich|weiblich|divers | F72: 19:30 | G72: 21:30 | H72: Mittwoch | I72: 20:30 | J72: 22:00 | K72: Donnerstag | U72: Sporthalle 30. Grundschule | V72: Hechtstraße 55 | W72: 01097 | X72: Dresden | Y72: Fiete Bellman | AA72: capoeira@motor-mickten.de | AB72: https://www.motor-mickten.de/
A73: SV Motor Mickten-Dresden e.V. | B73: Capoeira | C73: 8 | D73: 99 | E73: männlich|weiblich|divers | F73: 15:30 | G73: 16:30 | H73: Donnerstag | U73: Projekttheater Dresden | V73: Louisenstraße 47 | W73: 01099 | X73: Dresden | Y73: Kay Natusch | Z73: 0179 7712526 | AB73: https://www.motor-mickten.de/
A74: SV Motor Mickten-Dresden e.V. | B74: Capoeira | C74: 10 | D74: 16 | E74: männlich|weiblich|divers | F74: 17:00 | G74: 18:30 | H74: Donnerstag | U74: Kinder- und Jugendhaus Emmers | V74: Bürgerstraße 68 | W74: 01127 | X74: Dresden | Y74: Kay Natusch | Z74: 0179 7712526 | AB74: https://www.motor-mickten.de/
A75: SG Dresdner Verkehrsbetriebe e.V. | B75: Crossminton | C75: 16 | D75: 80 | E75: männlich|weiblich|divers | F75: 20:00 | G75: 21:30 | H75: Montag | I75: 19:30 | J75: 21:30 | K75: Donnerstag | U75: Sporthalle 62. Grundschule | V75: Pillnitzer Landstraße 38 | W75: 01326 | X75: Dresden | Y75: Horn | Z75: 0172/2721203 | AA75: info@verkehrsbetriebe-ev.de | AB75: sg-verkehrsbetriebe.de | AC75: 10 Min. vor Trainingsbeginn
A76: Kanuverein Laubegast e.V. | B76: Drachenboot | C76: 18 | D76: 80 | E76: männlich|weiblich|divers | F76: 18:45 | G76: 20:45 | H76: Dienstag | U76: Bootshaus Laubegaster Ufer 35 | V76: Laubegaster Ufer 35 | W76: 01279 | X76: Dresden | Y76: Tine Fink | AA76: tfink@kvl-dresden.de | AB76: https://kanuverein-laubegast.de/
A77: Sport & Jugend Dresden e.V. | B77: Einrad | C77: 4 | D77: 99 | E77: männlich|weiblich|divers | F77: 16:30 | G77: 17:45 | H77: Mittwoch | U77: Sporthalle Lessingstraße | V77: =VLOOKUP(U77,Sportstätten!A13:D286,2,0) -> Lessingstraße 10 | W77: =VLOOKUP(U77,[6]Sportstätten!A13:D286,3,0) -> 01099 | X77: =VLOOKUP(U77,[6]Sportstätten!A13:D286,4,0) -> Dresden | Y77: Ray Mehlig | Z77: 0351-4702987 | AA77: sport-jugend-dresden@outlook.de | AB77: www.sport-jugend-dresden.de | AC77: Ggf. Einrad mitbringen
A78: SV Motor Mickten-Dresden e.V. | B78: Einrad-Hockey | C78: 6 | D78: 99 | E78: männlich|weiblich|divers | F78: 17:00 | G78: 18:30 | H78: Dienstag | U78: Sporthalle Marie-Curie-Gymnasium | V78: =VLOOKUP(U78,[13]Sportstätten!A96:D369,2,0) -> Zirkusstraße 7 | W78: =VLOOKUP(U78,[13]Sportstätten!A96:D369,3,0) -> 01069 | X78: =VLOOKUP(U78,[13]Sportstätten!A96:D369,4,0) -> Dresden | Y78: Ole Jaekel | AA78: einradhockey@motor-mickten.de | AB78: https://www.motor-mickten.de/
A79: SV Motor Mickten-Dresden e.V. | B79: Einrad-Hockey | C79: 12 | D79: 99 | E79: männlich|weiblich|divers | F79: 18:00 | G79: 19:00 | H79: Dienstag | I79: 19:00 | J79: 20:30 | K79: Freitag | U79: Sporthalle Marie-Curie-Gymnasium | V79: =VLOOKUP(U79,[13]Sportstätten!A97:D370,2,0) -> Zirkusstraße 7 | W79: =VLOOKUP(U79,[13]Sportstätten!A97:D370,3,0) -> 01069 | X79: =VLOOKUP(U79,[13]Sportstätten!A97:D370,4,0) -> Dresden | Y79: Ole Jaekel | AA79: einradhockey@motor-mickten.de | AB79: https://www.motor-mickten.de/
A80: Dresdner Eislauf-Club e.V. | B80: Eiskunstlauf | C80: 4 | D80: 6 | E80: männlich|weiblich|divers | F80: 09:30 | G80: 11:15 | H80: Dienstag | I80: 15:00 | J80: 16:45 | K80: Mittwoch | U80: Joynext Arena | V80: Magdeburger Straße 10 | W80: 01067 | X80: Dresden | Y80: Fr. Böhme | Z80: 0351 496 40 18 | AA80: kiga@dresdner-eislauf-club.de | AB80: www.dresdner-eislauf-club.de | AC80: Voranmeldung notwendig, warme Kleidung, Handschuhe, Helm, Knieschützer mitbringen, Schlittschuhe können ausgeliehen werden
A81: Dresdner Eislauf-Club e.V. | B81: Eiskunstlauf | C81: 6 | D81: 7 | E81: männlich|weiblich|divers | F81: 16:00 | G81: 17:45 | H81: Mittwoch | I81: 16:00 | J81: 18:15 | K81: Donnerstag | L81: 16:00 | M81: 18:15 | N81: Samstag | U81: Joynext Arena | V81: Magdeburger Straße 10 | W81: 01067 | X81: Dresden | Y81: Fr. Böhme | Z81: 0351 496 40 18 | AA81: schnuppertraining@dresdner-eislauf-club.de | AB81: www.dresdner-eislauf-club.de | AC81: Voraussetzung selbstständiges Laufen auf dem Eis ohne Hilfsmittel, Voranmeldung notwendig, warme Kleidung, Handschuhe, Helm, Knieschützer mitbringen, Schlittschuhe können ausgeliehen werden
A82: Kinderprojekt Dresden | B82: Eiskunstlauf | C82: 7 | D82: 12 | E82: männlich|weiblich|divers | F82: 15:15 | G82: 16:45 | H82: Sonntag | I82: 16:45 | J82: 18:00 | K82: Sonntag | U82: Joynext Arena | V82: Magdeburger Straße 10 | W82: 01067 | X82: Dresden | Y82: Herr Halama | Z82: 0178-4954262 | AA82: kinderprojekt@web.de | AB82: www.kinderprojekt-dresden.de | AC82: nur im November / Januar und März
A83: Eislauf-Verein Dresden e.V. | B83: Eisschnelllauf | C83: 4 | D83: 10 | E83: männlich|weiblich|divers | F83: 16:00 | G83: 17:45 | H83: Montag | I83: 16:00 | J83: 17:30 | K83: Donnerstag | U83: Joynext Arena | V83: =VLOOKUP(U83,Sportstätten!A3:D276,2,0) -> Magdeburger Straße 10 | W83: =VLOOKUP(U83,[1]Sportstätten!A3:D276,3,0) -> 01067 | X83: =VLOOKUP(U83,Sportstätten!A3:D276,4,0) -> Dresden | Y83: Kristin Herrmann | Z83: 0351 4977304 | AA83: esl.dresden@t-online.de | AB83: www.kufenflitzer.de | AC83: Trainingszeit von November bis März| Schlittschuhe, Helm, Handschuhe mitbringen| Schlittschuhe können auch geliehen werden| Treffpunkt: Servicepunkt Joynext Arena
A84: Eislauf-Verein Dresden e.V. | B84: Eisschnelllauf | C84: 4 | D84: 10 | E84: männlich|weiblich|divers | F84: 16:00 | G84: 17:30 | H84: Montag | I84: 16:00 | J84: 17:30 | K84: Donnerstag | U84: Joynext Arena | V84: =VLOOKUP(U84,Sportstätten!A4:D277,2,0) -> Magdeburger Straße 10 | W84: =VLOOKUP(U84,Sportstätten!A6:D279,3,0) -> 01067 | X84: =VLOOKUP(U84,Sportstätten!A6:D279,4,0) -> Dresden | Y84: Kristin Herrmann | Z84: 0351 4977304 | AA84: esl.dresden@t-online.de | AB84: www.kufenflitzer.de | AC84: Trainingszeit von März bis Oktober| Treffpunkt: Servicepunkt Joynext Arena| Umgezogen in wettergerechter Sportkleidung kommen| Spiel und Athletiktraining auf dem Sportplatz.
A85: SV Motor Mickten-Dresden e.V. | B85: Eltern-Kind-Turnen | C85: 4 | D85: 6 | E85: männlich|weiblich|divers | F85: 16:00 | G85: 17:00 | H85: Dienstag | I85: 17:00 | J85: 18:00 | K85: Dienstag | U85: Sporthalle Schule zur Lernförderung "A.S.Makarenko" | V85: Leisniger Straße 76 | W85: 01127 | X85: Dresden | Y85: Susann Langer | AA85: fb@motor-mickten.de | AB85: https://www.motor-mickten.de/
A86: SV Motor Mickten-Dresden e.V. | B86: Eltern-Kind-Turnen | C86: 3 | D86: 6 | E86: männlich|weiblich|divers | F86: 17:00 | G86: 18:15 | H86: Montag | U86: Sporthalle Gymnasium Pieschen und 145. Oberschule | V86: Gehestraße 10 | W86: 01127 | X86: Dresden | Y86: Susann Langer | AA86: fb@motor-mickten.de | AB86: https://www.motor-mickten.de/ | AC86: Inklusiver Eltern-Kind-Sport
A87: SV Motor Mickten-Dresden e.V. | B87: Eltern-Kind-Turnen | C87: 4 | D87: 6 | E87: männlich|weiblich|divers | F87: 16:00 | G87: 17:00 | H87: Donnerstag | U87: Sporthalle 56. Oberschule | V87: Aachener Straße 10 | W87: 01129 | X87: Dresden | Y87: Susann Langer | AA87: fb@motor-mickten.de | AB87: https://www.motor-mickten.de/
A88: TURNados Dresden e.V. | B88: Eltern-Kind-Turnen | C88: 1 | D88: 3 | E88: männlich|weiblich|divers | F88: 09:30 | G88: 10:30 | H88: Samstag | U88: Sporthalle 19. Grundschule | V88: =VLOOKUP(U88,[11]Sportstätten!A36:D309,2,0) -> Am Jägerpark 5 | W88: =VLOOKUP(U88,[11]Sportstätten!A36:D309,3,0) -> 01099 | X88: =VLOOKUP(U88,[11]Sportstätten!A36:D309,4,0) -> Dresden | Y88: Uta Albert | AA88: Eltern-Kind-Turnen@turnados-dresden.de | AB88: https://www.turnados-dresden.de/?page_id=61
A89: SV Motor Mickten-Dresden e.V. | B89: E-Rolli-Fußball | C89: 12 | D89: 99 | E89: männlich|weiblich|divers | F89: 19:00 | G89: 22:00 | H89: Freitag | U89: Ballsportarena | V89: Weißeritzstraße 4 | W89: 01067 | X89: Dresden | Y89: Romy Pötschke | AA89: e-rolli-fussball@motor-mickten.de | AB89: https://www.motor-mickten.de/ | AC89: Elektro-Rollstuhl
A90: ESV Dresden e.V. | B90: Faustball | C90: 7 | D90: 16 | E90: männlich|weiblich|divers | F90: 17:00 | G90: 18:30 | H90: Mittwoch | U90: Sportstätte Emerich-Ambros-Ufer | V90: Emerich-Ambros-Ufer 74 | W90: 01159 | X90: Dresden | Y90: Jens Schleinitz | Z90: 0351 4210314 | AA90: faustball@esv-dresden.de | AB90: www.esv-dresden.de
A91: ESV Dresden e.V. | B91: Faustball | C91: 15 | D91: 18 | E91: männlich|weiblich|divers | F91: 17:30 | G91: 19:00 | H91: Montag | U91: Sporthalle Gymnasium Cotta | V91: Cossebauder Straße 35 | W91: 01157 | X91: Dresden | Y91: Jens Schleinitz | Z91: 0351 4210314 | AA91: faustball@esv-dresden.de | AB91: www.esv-dresden.de
A92: Langebrücker Ballsportverein 99 e.V. | B92: Faustball | C92: 8 | D92: 12 | E92: männlich|weiblich|divers | F92: 16:30 | G92: 17:30 | H92: Dienstag | I92: 16:30 | J92: 17:30 | K92: Donnerstag | U92: Faustballplatz Langebrück | V92: Dörnichtweg 4 | W92: 01465 | X92: Langebrück | Y92: Mike Neumann | Z92: 01575-1518332 | AA92: Faustball@Langebruecker-BSV.de | AB92: www.Langebruecker-BSV.de | AC92: Feldsaison 15.04.-30.09., sonst Halle
A93: Langebrücker Ballsportverein 99 e.V. | B93: Faustball | C93: 13 | D93: 17 | E93: männlich|weiblich|divers | F93: 17:30 | G93: 19:00 | H93: Dienstag | I93: 17:30 | J93: 19:00 | K93: Donnerstag | U93: Faustballplatz Langebrück | V93: Dörnichtweg 4 | W93: 01465 | X93: Langebrück | Y93: Mike Neumann | Z93: 01575-1518332 | AA93: Faustball@Langebruecker-BSV.de | AB93: www.Langebruecker-BSV.de | AC93: Feldsaison 15.04.-30.09., sonst Halle
A94: Kanuverein Laubegast e.V. | B94: Fitnessgymnastik | C94: 30 | D94: 80 | E94: männlich|weiblich|divers | F94: 18:30 | G94: 19:30 | H94: Dienstag | U94: Bootshaus Laubegaster Ufer 35 | V94: Laubegaster Ufer 35 | W94: 01279 | X94: Dresden | Y94: Christine Römer | AA94: post@kvl-dresden.de | AB94: https://kanuverein-laubegast.de/
A95: Sport & Jugend Dresden e.V. | B95: Floorball / Unihockey | C95: 18 | D95: 99 | E95: männlich|weiblich|divers | F95: 20:30 | G95: 22:00 | H95: Montag | U95: Sporthalle 51. Grundschule | V95: Rosa-Menzer-Straße 24 | W95: 01309 | X95: Dresden | Y95: Ray Mehlig | Z95: 0351-4702987 | AA95: sport-jugend-dresden@outlook.de | AB95: https://sport-jugend-dresden.de
A96: SV Motor Mickten-Dresden e.V. | B96: Floorball / Unihockey | C96: 10 | D96: 14 | E96: männlich|weiblich|divers | F96: 18:30 | G96: 19:30 | H96: Mittwoch | U96: Sporthalle 41. Grundschule | V96: Hauptmannstraße 15 | W96: 01139 | X96: Dresden | Y96: Ronny Bartsch | AA96: fb@motor-mickten.de | AB96: https://www.motor-mickten.de/
A97: Unihockey Igels Dresden e.V. | B97: Floorball / Unihockey | C97: 5 | D97: 11 | E97: männlich|weiblich|divers | F97: 17:00 | G97: 18:30 | H97: Mittwoch | U97: Sporthalle 128. Oberschule | V97: Rudolf-Bergander-Ring 3 | W97: 01219 | X97: Dresden | AA97: spielen@unihockey-dresden.de | AB97: www.unihockey-dresden.de | AC97: Kinder Anfänger
A98: Unihockey Igels Dresden e.V. | B98: Floorball / Unihockey | C98: 9 | D98: 13 | E98: männlich|weiblich|divers | F98: 16:30 | G98: 18:00 | H98: Dienstag | U98: Sporthalle 121. Oberschule | V98: Gamigstraße 28 | W98: 01239 | X98: Dresden | AA98: spielen@unihockey-dresden.de | AB98: www.unihockey-dresden.de | AC98: Kinder U11/U13
A99: Unihockey Igels Dresden e.V. | B99: Floorball / Unihockey | C99: 9 | D99: 13 | E99: männlich|weiblich|divers | F99: 17:00 | G99: 18:30 | H99: Donnerstag | U99: Sporthalle 128. Oberschule | V99: Rudolf-Bergander-Ring 3 | W99: 01219 | X99: Dresden | AA99: spielen@unihockey-dresden.de | AB99: www.unihockey-dresden.de | AC99: Kinder U11/U13
A100: Unihockey Igels Dresden e.V. | B100: Floorball / Unihockey | C100: 13 | D100: 17 | E100: männlich|weiblich|divers | F100: 17:00 | G100: 19:00 | H100: Dienstag | U100: Sporthalle Julius-Ambrosius-Hülße-Gymnasium | V100: Hülßestraße 16 | W100: 01237 | X100: Dresden | AA100: spielen@unihockey-dresden.de | AB100: www.unihockey-dresden.de | AC100: Kinder U15/U17
A101: Unihockey Igels Dresden e.V. | B101: Floorball / Unihockey | C101: 13 | D101: 15 | E101: männlich|weiblich|divers | F101: 17:30 | G101: 19:00 | H101: Donnerstag | U101: Margon Arena | V101: Bodenbacher Straße 154 | W101: 01277 | X101: Dresden | AA101: spielen@unihockey-dresden.de | AB101: www.unihockey-dresden.de | AC101: Kinder U15
A102: Unihockey Igels Dresden e.V. | B102: Floorball / Unihockey | C102: 15 | D102: 17 | E102: männlich|weiblich|divers | F102: 17:00 | G102: 18:30 | H102: Freitag | U102: Sporthalle 121. Oberschule | V102: Gamigstraße 28 | W102: 01239 | X102: Dresden | AA102: spielen@unihockey-dresden.de | AB102: www.unihockey-dresden.de | AC102: Kinder U17
A103: Unihockey Igels Dresden e.V. | B103: Floorball / Unihockey | C103: 17 | D103: 99 | E103: männlich|weiblich|divers | F103: 20:30 | G103: 22:30 | H103: Dienstag | U103: Margon Arena | V103: Bodenbacher Straße 154 | W103: 01277 | X103: Dresden | AA103: spielen@unihockey-dresden.de | AB103: www.unihockey-dresden.de | AC103: Regionalliga
A104: Unihockey Igels Dresden e.V. | B104: Floorball / Unihockey | C104: 17 | D104: 99 | E104: männlich|weiblich|divers | F104: 18:30 | G104: 20:00 | H104: Freitag | U104: Sporthalle 121. Oberschule | V104: Gamigstraße 28 | W104: 01239 | X104: Dresden | AA104: spielen@unihockey-dresden.de | AB104: www.unihockey-dresden.de | AC104: Regionalliga
...

Sheet Sportstätten
A1: Sportstätte | B1: Straße | C1: PLZ | D1: Stadt | F1: Vereinsname | G1: LSB-Nummer | H1: Sportart | I1: Alter | J1: Tag | K1: Zeit | L1: Geschlecht
A3: Sporthalle 56. Oberschule | B3: Aachener Straße 10 | C3: 01129 | D3: Dresden | F3: „Heilige Dreihornigkeit“ e. V.“ | G3: 410491 | H3: Aerobic | I3: 1 | L3: männlich
A4: Sportplatz Aachener Straße | B4: Aachener Straße 19 a | C4: 01129 | D4: Dresden | F4: 1. Dresdner Rock n Roll Club e.V. | G4: 410006 | H4: Aikido | I4: 2 | J4: Montag | K4: 06:00 | L4: weiblich
A5: Sporthalle Gymnasium Dreikönigschule | B5: Alaunstraße 32 | C5: 01099 | D5: Dresden | F5: 1. FFC Fortuna Dresden | G5: 410007 | H5: Akrobatik / Sportakrobatik | I5: 3 | J5: Dienstag | K5: 06:15 | L5: männlich|weiblich|divers
A6: Sporthalle ehem. 86. Mittelschule | B6: Alexander-Herzen-Straße 64 | C6: 01109 | D6: Dresden | F6: 1. Roundnet Club Dresden e.V. | G6: 410465 | H6: Allgemeine Sportgruppe | I6: 4 | J6: Mittwoch | K6: 06:30 | L6: weiblich|divers
A7: Sporthalle Oberschule Weixdorf | B7: Alte Dresdner Straße 22 | C7: 01108 | D7: Dresden | F7: 1.Squash Club Dresden e.V. | G7: 410013 | H7: American Football | I7: 5 | J7: Donnerstag | K7: 06:45 | L7: männlich|divers
A8: Sportplatz am Gemeindezentrum Gompitz | B8: Altnossener Straße 46 a | C8: 01156 | D8: Dresden | F8: 84'TIL - Zentrum für urbane Kultur e.V. | G8: 410459 | H8: Angeln / Sportfischen | I8: 6 | J8: Freitag | K8: 07:00
A9: Sporthalle AST des BSZ für Agrarwirtschaft und Ernährung | B9: Altroßthal 1 | C9: 01169 | D9: Dresden | F9: Aerobic & Tanzwerkstatt e.V. | G9: 410014 | H9: Aquafitness | I9: 7 | J9: Samstag | K9: 07:15
A10: Sportplatz "Am Dölzschgaben" | B10: Am Dölzschgraben 7 | C10: 01187 | D10: Dresden | F10: Akademische Sektion Dresden e.V. | G10: 410460 | H10: Australian Football | I10: 8 | J10: Sonntag | K10: 07:30
A11: Sporthalle 19. Grundschule | B11: Am Jägerpark 5 | C11: 01099 | D11: Dresden | F11: Aktiv mit Freunden e.V. | G11: 410475 | H11: Automobilsport | I11: 9 | K11: 07:45
A12: Sportplatz 19. Grundschule | B12: Am Jägerpark 5 | C12: 01099 | D12: Dresden | F12: Aktives Deutschland e.V. | G12: 410439 | H12: Badminton | I12: 10 | K12: 08:00
A13: Sporthalle 76. Grundschule | B13: Am Lehmberg 28 a | C13: 01157 | D13: Dresden | F13: Allgemeiner Sportverein Dresden-West e.V. | G13: 410016 | H13: Ballett | I13: 11 | K13: 08:15
A14: Sporthalle 77. Grundschule | B14: Am Urnenfeld 27 | C14: 01157 | D14: Dresden | F14: Allgemeiner SV Dresden 1998 e.V. | G14: 410017 | H14: Ballsport | I14: 12 | K14: 08:30
A15: Sportplatz 77. Grundschule | B15: Am Urnenfeld 27 | C15: 01157 | D15: Dresden | F15: Alpiner Skiclub Dresden e.V. | G15: 410019 | H15: Baseball | I15: 13 | K15: 08:45
A16: Sporthalle 135. Grundschule | B16: Amalie-Dietrich-Platz 10 | C16: 01169 | D16: Dresden | F16: Alpines-Ski-Team Dresden e.V. | G16: 410020 | H16: Basketball | I16: 14 | K16: 09:00
A17: Sportplatz 135. Grundschule | B17: Amalie-Dietrich-Platz 10 | C17: 01169 | D17: Dresden | F17: Armwrestling Club Dresden e. V. | G17: 410478 | H17: Bauchtanz | I17: 15 | K17: 09:15
A18: Sportplatz Oberpoyritz | B18: An der Schmiede 10 | C18: 01326 | D18: Dresden | F18: Arnis Dresden e.V. | G18: 410021 | H18: Bergsteigen | I18: 16 | K18: 09:30
A19: Sporthalle Andreas-Schubert-Straße | B19: Andreas-Schubert-Straße 41 | C19: 01069 | D19: Dresden | F19: Athletics Team Dresden e.V. | G19: 410494 | H19: Bewegungsschule | I19: 17 | K19: 09:45
A20: Tennisgelände Andreas-Schubert-Straße | B20: Andreas-Schubert-Straße 51 | C20: 01069 | D20: Dresden | F20: Aus Liebe zum Spiel - freier Streetballverein e.V. | G20: 410409 | H20: Biathlon | I20: 18 | K20: 10:00
A21: Sporthalle Internationale Schule | B21: Annenstraße 9 | C21: 01067 | D21: Dresden | F21: Badminton-Verein 57 Niedersedlitz e.V. | G21: 410023 | H21: Billard | I21: 19 | K21: 10:15
A22: Sporthalle August-Bebel-Straße | B22: August-Bebel-Straße 18 | C22: 01219 | D22: Dresden | F22: BallSportAthleten Dresden e.V. | G22: 410455 | H22: BMX | I22: 20 | K22: 10:30
... A76: Bootshaus Fidelio-F.-Finke-Straße | B76: Fidelio-F.-Finke-Straße 12 | C76: 01326 | D76: Dresden | F76: Dresdner Sportverein 1910 e.V. | G76: 410075 | H76: Kindersport | I76: 74 | K76: 00:00
A77: Sporthalle 62. Oberschule | B77: Fidelio-F.-Finke-Straße 15 | C77: 01326 | D77: Dresden | F77: Dresdner Sportverein 1953 e.V. | G77: 410074 | H77: Kinderturnen | I77: 75
A78: Sportplatz 62. Oberschule | B78: Fidelio-F.-Finke-Straße 15 | C78: 01326 | D78: Dresden | F78: Dresdner Sportverein Grün-Weiß 90 e.V. | G78: 410053 | H78: Kinderzirkus | I78: 76
A79: Sporthalle Förderzentrum für Körperbehinderte/Sprache | B79: Fischhausstraße 12 | C79: 01099 | D79: Dresden | F79: Dresdner SSV e.V. | G79: 410076 | H79: Klettern/Bouldern | I79: 77
A80: Sporthalle Forsythienstraße (ehem. 142.GS) | B80: Forsythienstraße 24 | C80: 01169 | D80: Dresden | F80: Dresdner SV Albertstadt 1991 e.V. | G80: 410077 | H80: Lacrosse | I80: 78
A81: Sporthalle 71. Grundschule | B81: Franzweg 4 | C81: 01217 | D81: Dresden | F81: Dresdner Wanderer- und Bergsteiger-Verein e.V. | G81: 410078 | H81: Laufsport | I81: 79
A82: Schwimmhalle Freiberger Platz | B82: Freiberger Platz 1 a | C82: 01067 | D82: Dresden | F82: EHV Dresden "The Devils" e.V. | G82: 410082 | H82: Leichtathletik | I82: 80
A83: Sprunghalle Freiberger Platz | B83: Freiberger Platz 1 a | C83: 01067 | D83: Dresden | F83: ESV Dresden e.V. | G83: 410083 | H83: Minigolf / Bahnengolf | I83: 81
A84: Büro- und Verwaltungsgebäude EBS | B84: Freiberger Str. 31 | C84: 01067 | D84: Dresden | F84: Eislauf-Verein Dresden e.V. | G84: 410084 | H84: Modelflugsport | I84: 82
A85: Sportplatz Loschwitz | B85: Friedrich-Wieck-Straße 32 | C85: 01326 | D85: Dresden | F85: Eissportclub Dresden e.V. | G85: 410085 | H85: Motorbootsport | I85: 83
A86: Sportplatz Grundschule Langebrück | B86: Friedrich-Wolf-Straße 7 | C86: 01465 | D86: Dresden | F86: Elbe Tigers Sports Club e.V. | G86: 410495 | H86: Motorradsport | I86: 84
A87: Sporthalle 153. Grundschule | B87: Fröbelstraße 1 | C87: 01159 | D87: Dresden | F87: Elbhang Volleyball e.V. | G87: 410086 | H87: Mountainbike | I87: 85
A88: Sporthalle 121. Oberschule | B88: Gamigstraße 28 | C88: 01239 | D88: Dresden | F88: Elferrat Gebau Dresden e.V. | G88: 410427 | H88: Musik- und Spielmannswesen | I88: 86
... A102: Sporthalle 15. Grundschule | B102: Görlitzer Straße 8 | C102: 01099 | D102: Dresden | F102: Förderverein Schach Wolfgang Uhlmann e.V. | G102: 410486 | H102: Rollski | I102: 100
A103: Sporthalle Förderzentrum "Am Leutewitzer Park" | B103: Gottfried-Keller-Straße 40 | C103: 01157 | D103: Dresden | F103: FSG WACKER 90 Dresden-Leuben e.V. | G103: 410099 | H103: Rope Skipping / Springseil
A104: Sporthalle 106. Grundschule | B104: Großenhainer Straße 187 | C104: 01129 | D104: Dresden | F104: FSV Lok Dresden e.V. | G104: 410374 | H104: Roundnet
A105: Sporthalle 92. Grundschule | B105: Großzschachwitzer Straße 29 | C105: 01259 | D105: Dresden | F105: Fudoshin-Ryu Karate Dresden e.V. | G105: 410411 | H105: Rudern
A106: Sporthalle BSZ für Bau und Technik | B106: Güntzstraße 3 | C106: 01069 | D106: Dresden | F106: Fußball Campus Dresden e.V. | G106: 410449 | H106: Rugby
A107: Bootshaus Hamburger Straße | B107: Hamburger Straße 84 | C107: 01157 | D107: Dresden | F107: Fußballfreunde Dresden 03 e.V. | G107: 410100 | H107: San Shou
A108: Sporthalle 41. Grundschule | B108: Hauptmannstraße 15 | C108: 01139 | D108: Dresden | F108: Fußballverein Hafen Dresden e.V. | G108: 410101 | H108: Schach
A109: Sporthalle Freie Evangelische Schule Dresden | B109: Hausdorfer Straße 4 | C109: 01277 | D109: Dresden | F109: FV Blau-Weiß Zschachwitz e.V. | G109: 410102 | H109: Schießsport
A110: Sporthalle Martin-Andersen-Nexö-Gymnasium | B110: Haydnstraße 49 | C110: 01309 | D110: Dresden | F110: FV Dresden 06 Laubegast e.V. | G110: 410103 | H110: Schiffsmodellbau
A111: Sporthalle 12. Grundschule | B111: Hebbelstraße 20 | C111: 01157 | D111: Dresden | F111: FV Dresden Süd-West e.V. | G111: 410104 | H111: Schwertkampf
A112: Sportplatz Hebbelstraße | B112: Hebbelstraße 23 | C112: 01157 | D112: Dresden | F112: FV Löbtauer Kickers 93 e.V. | G112: 410105 | H112: Schwimmen
A113: Sporthalle 30. Grundschule | B113: Hechtstraße 55 | C113: 01097 | D113: Dresden | F113: Gesundheitssport Sachsen e.V. | G113: 410425 | H113: Seesport
A114: Sportplatz 30. Grundschule | B114: Hechtstraße 55 | C114: 01097 | D114: Dresden | F114: Goju-Kai Karate Dresden e.V. | G114: 410108 | H114: Segelfliegen
... A149: Bootshaus Leipziger Straße | B149: Leipziger Straße 91 a | C149: 01127 | D149: Dresden | F149: KJS Club Dresden e.V. | G149: 410392 | H149: Zumba
A150: Sporthalle Schule zur Lernförderung "A.S.Makarenko" | B150: Leisniger Straße 76 | C150: 01127 | D150: Dresden | F150: Kneipp-Verein Dresden e.V. | G150: 410141
A151: Sporthalle Lessingstraße | B151: Lessingstraße 10 | C151: 01099 | D151: Dresden | F151: Kojin Karate Do e.V. | G151: 410395
A152: Sportplatz 46. Oberschule | B152: Leubnitzer Straße 14 | C152: 01069 | D152: Dresden | F152: KSB Gesundheitssport/Sporttherapie Dresden e.V. | G152: 410360
A153: Sporthalle Leutewitzer Ring | B153: Leutewitzer Ring 141 | C153: 01169 | D153: Dresden | F153: Kultur-und Sportverein "Makkabi Dresden" e.V. | G153: 410144
A154: Sportplatz Liebstädter Straße | B154: Liebstädter Straße 15 | C154: 01277 | D154: Dresden | F154: Langebrücker Ballsportverein 99 e.V. | G154: 410145
A155: Sporthalle 96. Grundschule | B155: Liebstädter Straße 37 | C155: 01277 | D155: Dresden | F155: Laubegaster Ruderverein Dresden e.V. | G155: 410146
A156: Skatepark Lingnerallee | B156: Lingnerallee | C156: 01069 | D156: Dresden | F156: Laufgruppe Dresden e.V. | G156: 410415
A157: Sporthalle 64. Oberschule | B157: Linzer Straße 1 | C157: 01279 | D157: Dresden | F157: Lebenshilfe Dresden e.V. | G157: 410148
A158: Sporthalle Schule für geistig Behinderte "Astrid Lindgren" | B158: Lise-Meitner-Straße 22 | C158: 01169 | D158: Dresden | F158: Leibesübungen e.V. | G158: 410149
A159: Sportplatz Lockwitzgrund | B159: Lockwitzgrund 20 | C159: 01257 | D159: Dresden | F159: Linde Sportverein e.V. | G159: 410150
A160: Skatehalle Dresden | B160: Lohrmannstraße 22 | C160: 01237 | D160: Dresden | F160: Lunatics Cheerleader e.V. | G160: 410152
A161: Sporthalle 9. Oberschule | B161: Lommatzscher Straße 121 | C161: 01139 | D161: Dresden | F161: Martial Arts Academy Dresden e.V. | G161: 410352
... A276: Sportplatz Zum Windkanal | B276: Zum Windkanal 14 | C276: 01109 | D276: Dresden | F276: SV Motor Mickten-Dresden e.V. | G276: 410279
F277: SV Rähnitz e.V. | G277: 410247
F278: SV Robotron Dresden e.V. | G278: 410280
F279: SV Sachsenwerk e.V. | G279: 410282
F280: SV Schwarz-Weiß Dresden e.V. | G280: 410283
F281: SV TuR Dresden e.V. | G281: 410284
F282: SV Universitätsklinikum Dresden e.V. | G282: 410285
F283: Taekwondo Allkampf Club Dresden e.V. | G283: 410356
F284: Taekwondo Team Jong-Do e.V. | G284: 410472
F285: Taekwondo und Hapkido Dresden e.V. | G285: 410286
F286: Takebayashi-Dojo e.V. | G286: 410287
F287: Tanzclub Galaxy Dresden e.V. | G287: 410289
F288: Tanzsportclub "Excelsior" Dresden e.V. | G288: 410290
... F347: ZMO - Regionalverband Dresden e.V. | G347: 410355
F348: Zschierener Gymnastikgruppe e.V.
