Workbook

Sheet Abfrage Vereine
A1: Sportjugend Dresden | B1: Tel.: 0351 – 4 75 81 71 | AC1: Stand: 11/2024
A2: Tittmannstraße 39 HH | B2: E-Mail: info@sportjugend-dresden.de
A3: 01309 Dresden | B3: www.sportjugend-dresden.de
A6: ÜBERSICHT DER VEREINSSPORTANGEBOTE für Kinder & Jugendliche in Dresden
A9: Verein | B9: Sportart | C9: Alter | E9: Geschlecht | F9: Trainingszeit 1 | I9: Trainingszeit 2 | L9: Trainingszeit 3 | O9: Trainingszeit 4 | R9: Trainingszeit 5 | U9: Sportstätte | Y9: Ansprechpartner:in | AB9: Homepage | AC9: Anmerkung (z.B.: Treffpunkt, persönliche Vorraussetzungen)
C10: von | D10: bis | F10: von | G10: bis | H10: Tag | I10: von | J10: bis | K10: Tag | L10: von | M10: bis | N10: Tag | O10: von | P10: bis | Q10: Tag | R10: von | S10: bis | T10: Tag | U10: Name | V10: Straße | W10: PLZ | X10: Stadt | Y10: Name | Z10: Telefonnummer | AA10: E-Mail Adresse
A11: SV Motor Mickten-Dresden e.V. | B11: Aerobic | C11: 14 | D11: 80 | E11: weiblich | F11: 19:00 | G11: 20:00 | H11: Mittwoch | I11: 20:00 | J11: 21:00 | K11: Mittwoch | U11: Sporthalle 9. Oberschule | V11: Lommatzscher Straße 121 | W11: 01139 | X11: Dresden | Y11: Peggy Stephan, Cornelia Menzel | AA11: aerobic-superfit@motor-mickten.de | AB11: https://www.motor-mickten.de/
A12: SV FS Rossendorf e.V. | B12: Aikido | C12: 8 | D12: 18 | E12: männlich|weiblich|divers | F12: 18:00 | G12: 19:30 | H12: Mittwoch | U12: Sporthalle 62. Grundschule | V12: Pillnitzer Landstraße 38 | W12: 01326 | X12: Dresden | Y12: Stefan Müller | AA12: aikido-jugend@sv-rossendorf.de | AB12: https://www.hzdr.de/sportverein
A13: SV HELIOS 24 Dresden e.V. | B13: Akrobatik / Sportakrobatik | C13: 7 | D13: 14 | E13: weiblich | F13: 17:00 | G13: 19:00 | H13: Mittwoch | I13: 17:00 | J13: 19:00 | K13: Freitag | U13: Sporthalle Oskar-Röder-Straße | V13: Oskar-Röder-Straße 4 a | W13: 01237 | X13: Dresden | Y13: Ulf Süß | AA13: svh-jugendleiter@gmx.net | AB13: www.sv-helios.de
A14: SV TuR Dresden e.V. | B14: Akrobatik / Sportakrobatik | C14: 5 | D14: 18 | E14: weiblich | F14: 17:00 | G14: 19:30 | H14: Montag | I14: 17:00 | J14: 19:30 | K14: Freitag | U14: Schwimmhalle Klotzsche | V14: Zum Windkanal 14 | W14: 01109 | X14: Dresden | AA14: svtur-sportakrobatik@gmx.de | AB14: https://www.sv-tur.de/sportakrobatik
A15: SV TuR Dresden e.V. | B15: Akrobatik / Sportakrobatik | C15: 5 | D15: 18 | E15: männlich|weiblich|divers | F15: 16:00 | G15: 19:00 | H15: Mittwoch | U15: Sporthalle Thäterstraße (ehem. 42.GS) | V15: Mengsstraße 19 | W15: 01139 | X15: Dresden | AA15: svtur-sportakrobatik@gmx.de | AB15: https://www.sv-tur.de/sportakrobatik
A16: Kanuverein Laubegast e.V. | B16: Allgemeine Sportgruppe | C16: 60 | D16: 80 | E16: weiblich | F16: 10:00 | G16: 11:00 | H16: Mittwoch | U16: Bootshaus Laubegaster Ufer 35 | V16: Laubegaster Ufer 35 | W16: 01279 | X16: Dresden | Y16: Yvonne Knoblock | AA16: post@kvl-dresden.de | AB16: https://kanuverein-laubegast.de/
A17: Kanuverein Laubegast e.V. | B17: Allgemeine Sportgruppe | C17: 50 | D17: 90 | E17: männlich | F17: 18:15 | G17: 19:15 | H17: Mittwoch | U17: Bootshaus Laubegaster Ufer 35 | V17: Laubegaster Ufer 35 | W17: 01279 | X17: Dresden | Y17: Ralf Zeidler | AA17: post@kvl-dresden.de | AB17: https://kanuverein-laubegast.de/
A18: SV Motor Mickten-Dresden e.V. | B18: Allgemeine Sportgruppe | C18: 6 | D18: 12 | E18: männlich|weiblich|divers | F18: 14:30 | G18: 16:00 | H18: Mittwoch | U18: Sporthalle Pestalozziplatz | V18: Pestalozziplatz 20 | W18: 01127 | X18: Dresden | Y18: Moncef Bouaziz | AA18: fb@motor-mickten.de | AB18: https://www.motor-mickten.de/
A19: SV Motor Mickten-Dresden e.V. | B19: Allgemeine Sportgruppe | C19: 6 | D19: 11 | E19: männlich|weiblich|divers | F19: 17:30 | G19: 18:30 | H19: Montag | U19: Sporthalle 26. Grundschule | V19: Osterbergstraße 22 | W19: 01127 | X19: Dresden | Y19: Yvonne Gaarz | AA19: fb@motor-mickten.de | AB19: https://www.motor-mickten.de/
A20: SV Motor Mickten-Dresden e.V. | B20: Allgemeine Sportgruppe | C20: 4 | D20: 14 | E20: männlich|weiblich|divers | F20: 17:00 | G20: 18:30 | H20: Mittwoch | U20: Sporthalle Gymnasium Pieschen und 145. Oberschule | V20: Gehestraße 10 | W20: 01127 | X20: Dresden | Y20: Matthias Wenzel | AA20: matthias.wenzel@motor-mickten.de | AB20: https://www.motor-mickten.de/ | AC20: Sport mit Handicap
A21: SC Hirschkäfer e.V. | B21: Allgemeinsport | C21: 3 | D21: 5 | E21: männlich|weiblich|divers | F21: 16:00 | G21: 17:00 | H21: Montag | I21: 16:00 | J21: 17:00 | K21: Mittwoch | U21: Sporthalle ehem. Schule zur Lernförderung | V21: Luboldtstraße 15 | W21: 01324 | X21: Dresden | Y21: Kati Noeske | Z21: 0351 2640329 | AA21: info@sc-hirschkaefer.de | AB21: www.sc-hirschkaefer.de
A22: SC Hirschkäfer e.V. | B22: Allgemeinsport | C22: 4 | D22: 6 | E22: männlich|weiblich|divers | F22: 17:00 | G22: 18:00 | H22: Montag | I22: 16:00 | J22: 17:00 | K22: Freitag | U22: Sporthalle ehem. Schule zur Lernförderung | V22: Luboldtstraße 15 | W22: 01324 | X22: Dresden | Y22: Kati Noeske | Z22: 0352 2640329 | AA22: info@sc-hirschkaefer.de | AB22: www.sc-hirschkaefer.de
A23: SC Hirschkäfer e.V. | B23: Allgemeinsport | C23: 5 | D23: 8 | E23: männlich|weiblich|divers | F23: 17:00 | G23: 18:00 | H23: Mittwoch | U23: Sporthalle ehem. Schule zur Lernförderung | V23: Luboldtstraße 15 | W23: 01324 | X23: Dresden | Y23: Kati Noeske | Z23: 0353 2640329 | AA23: info@sc-hirschkaefer.de | AB23: www.sc-hirschkaefer.de
A24: SC Hirschkäfer e.V. | B24: Allgemeinsport | C24: 6 | D24: 12 | E24: männlich|weiblich|divers | F24: 17:00 | G24: 18:30 | H24: Donnerstag | U24: Sporthalle ehem. Schule zur Lernförderung | V24: Luboldtstraße 15 | W24: 01324 | X24: Dresden | Y24: Kati Noeske | Z24: 0354 2640329 | AA24: info@sc-hirschkaefer.de | AB24: www.sc-hirschkaefer.de
A25: Chinesische Sportgemeinschaft Dresden e.V. | B25: Badminton | C25: 4 | D25: 60 | E25: männlich|weiblich|divers | F25: 14:30 | G25: 16:00 | H25: Sonntag | U25: Sporthalle 70. Grundschule | V25: =VLOOKUP(U25,[9]Sportstätten!A25:D298,2,0) -> Südhöhe 36 | W25: =VLOOKUP(U25,[9]Sportstätten!A25:D298,3,0) -> 01217 | X25: =VLOOKUP(U25,[9]Sportstätten!A25:D298,4,0) -> Dresden | Y25: Shumian Di | AA25: cnsgdd@gmail.de | AB25: www.facebook.com/CHNSgDresden
A26: ESV Dresden e.V. | B26: Badminton | C26: 8 | D26: 14 | E26: männlich|weiblich|divers | F26: 16:30 | G26: 20:00 | H26: Dienstag | U26: Sporthalle Förderzentrum "Am Leutewitzer Park" | V26: Gottfried-Keller-Straße 40 | W26: 01157 | X26: Dresden | Y26: Martin Nichterwitz | Z26: 01729179732 | AA26: badminton@esv-dresden.de | AB26: www.esv-dresden.de | AC26: Winterhalbjahr
A27: ESV Dresden e.V. | B27: Badminton | C27: 8 | D27: 14 | E27: männlich|weiblich|divers | F27: 16:30 | G27: 20:00 | H27: Montag | I27: 16:30 | J27: 19:00 | K27: Dienstag | U27: Sporthalle Gymnasium Cotta | V27: Cossebauder Straße 35 | W27: 01157 | X27: Dresden | Y27: Martin Nichterwitz | Z27: 01729179732 | AA27: badminton@esv-dresden.de | AB27: www.esv-dresden.de | AC27: Sommerhalbjahr
A28: SG Dresdner Verkehrsbetriebe e.V. | B28: Badminton | C28: 14 | D28: 75 | E28: männlich|weiblich|divers | F28: 18:00 | G28: 19:30 | H28: Donnerstag | U28: Sporthalle 62. Grundschule | V28: Pillnitzer Landstraße 38 | W28: 01326 | X28: Dresden | Y28: Friedrich | Z28: 0175/1565450 | AA28: info@verkehrsbetriebe-ev.de | AB28: sg-verkehrsbetriebe.de | AC28: 10 Min. vor Trainingsbeginn
A29: SV Motor Mickten-Dresden e.V. | B29: Badminton | C29: 7 | D29: 10 | E29: männlich|weiblich|divers | F29: 17:00 | G29: 18:30 | H29: Montag | I29: 17:00 | J29: 18:30 | K29: Mittwoch | U29: Sporthalle Gymnasium Pieschen und 145. Oberschule | V29: =VLOOKUP(U29,[13]Sportstätten!A107:D380,2,0) -> Gehestraße 10 | W29: =VLOOKUP(U29,[13]Sportstätten!A107:D380,3,0) -> 01127 | X29: =VLOOKUP(U29,[13]Sportstätten!A107:D380,4,0) -> Dresden | Y29: Marco Gubisch | AA29: badminton.jugend@motor-mickten.de | AB29: https://www.motor-mickten.de/
A30: SV Motor Mickten-Dresden e.V. | B30: Badminton | C30: 11 | D30: 14 | E30: männlich|weiblich|divers | F30: 17:00 | G30: 18:30 | H30: Montag | I30: 17:00 | J30: 18:30 | K30: Mittwoch | U30: Sporthalle Gymnasium Pieschen und 145. Oberschule | V30: =VLOOKUP(U30,[13]Sportstätten!A108:D381,2,0) -> Gehestraße 10 | W30: =VLOOKUP(U30,[13]Sportstätten!A108:D381,3,0) -> 01127 | X30: =VLOOKUP(U30,[13]Sportstätten!A108:D381,4,0) -> Dresden | Y30: Ralf Neubert | AA30: badminton.jugend@motor-mickten.de | AB30: https://www.motor-mickten.de/
A31: SV Motor Mickten-Dresden e.V. | B31: Badminton | C31: 15 | D31: 18 | E31: männlich|weiblich|divers | F31: 18:30 | G31: 20:00 | H31: Montag | I31: 18:30 | J31: 20:00 | K31: Mittwoch | U31: Sporthalle Gymnasium Pieschen und 145. Oberschule | V31: =VLOOKUP(U31,[13]Sportstätten!A109:D382,2,0) -> Gehestraße 10 | W31: =VLOOKUP(U31,[13]Sportstätten!A109:D382,3,0) -> 01127 | X31: =VLOOKUP(U31,[13]Sportstätten!A109:D382,4,0) -> Dresden | Y31: Tom Rühle | AA31: badminton.jugend@motor-mickten.de | AB31: https://www.motor-mickten.de/
A32: SV Motor Mickten-Dresden e.V. | B32: Badminton | C32: 16 | D32: 99 | E32: männlich|weiblich|divers | F32: 20:30 | G32: 22:00 | H32: Montag | U32: Sporthalle Gymnasium Pieschen und 145. Oberschule | V32: =VLOOKUP(U32,[13]Sportstätten!A110:D383,2,0) -> Gehestraße 10 | W32: =VLOOKUP(U32,[13]Sportstätten!A110:D383,3,0) -> 01127 | X32: =VLOOKUP(U32,[13]Sportstätten!A110:D383,4,0) -> Dresden | Y32: Lutz Reiter, Silke Bruns | AB32: https://www.motor-mickten.de/
A33: TSV Dresden e. V. | B33: Badminton | C33: 5 | D33: 10 | E33: männlich|weiblich|divers | F33: 16:30 | G33: 18:30 | H33: Dienstag | I33: 16:30 | J33: 18:00 | K33: Donnerstag | U33: Sporthalle 70. Grundschule | V33: Südhöhe 36 | W33: 01217 | X33: Dresden | Y33: Frau Galle | Z33: 0351-2506182 | AA33: geschaefsstelle@tsv-dresden.de | AB33: www.tsv-dresden.de
A34: TSV Dresden e. V. | B34: Badminton | C34: 11 | D34: 15 | E34: männlich|weiblich|divers | F34: 16:30 | G34: 18:30 | H34: Freitag | U34: Sporthalle 70. Grundschule | V34: Südhöhe 36 | W34: 01217 | X34: Dresden | Y34: Frau Galle | Z34: 0351-2506182 | AA34: geschaefsstelle@tsv-dresden.de | AB34: www.tsv-dresden.de
A35: TSV Dresden e. V. | B35: Badminton | C35: 11 | D35: 15 | E35: männlich|weiblich|divers | F35: 18:00 | G35: 20:00 | H35: Dienstag | U35: Sporthalle 108. Grundschule/ 107. Oberschule | V35: Geisingstraße 45 | W35: 01309 | X35: Dresden | Y35: Frau Galle | Z35: 0351-2506182 | AA35: geschaefsstelle@tsv-dresden.de | AB35: www.tsv-dresden.de
A36: TSV Dresden e. V. | B36: Badminton | C36: 9 | D36: 12 | E36: männlich|weiblich|divers | F36: 16:30 | G36: 18:30 | H36: Freitag | U36: Sporthalle 108. Grundschule/ 107. Oberschule | V36: Geisingstraße 45 | W36: 01309 | X36: Dresden | Y36: Frau Galle | Z36: 0351-2506182 | AA36: geschaefsstelle@tsv-dresden.de | AB36: www.tsv-dresden.de
A37: TSV Dresden e. V. | B37: Badminton | C37: 11 | D37: 18 | E37: männlich|weiblich|divers | F37: 19:00 | G37: 20:30 | H37: Donnerstag | U37: Sporthalle 108. Grundschule/ 107. Oberschule | V37: Geisingstraße 45 | W37: 01309 | X37: Dresden | Y37: Frau Galle | Z37: 0351-2506182 | AA37: geschaefsstelle@tsv-dresden.de | AB37: www.tsv-dresden.de
A38: TSV Dresden e. V. | B38: Badminton | C38: 11 | D38: 19 | E38: männlich|weiblich|divers | F38: 17:00 | G38: 19:00 | H38: Mittwoch | U38: Sporthalle Vitzthum-Gymnasium | V38: =VLOOKUP(U38,[21]Sportstätten!A188:D461,2,0) -> Paradiesstraße 35 | W38: =VLOOKUP(U38,[21]Sportstätten!A188:D461,3,0) -> 01217 | X38: =VLOOKUP(U38,[21]Sportstätten!A188:D461,4,0) -> Dresden | Y38: Frau Galle | Z38: 0351-2506182 | AA38: geschaefsstelle@tsv-dresden.de | AB38: www.tsv-dresden.de
A39: Verein für Breitensport Hellerau-Klotzsche e.V. | B39: Badminton | C39: 11 | D39: 16 | E39: männlich|weiblich|divers | F39: 17:00 | G39: 18:30 | H39: Montag | I39: 16:00 | J39: 17:30 | K39: Mittwoch | U39: Sporthalle 82. Grund- und Oberschule | V39: Gertrud-Caspari-Straße 9 | W39: 01109 | X39: Dresden | Y39: Karsten Teichmann | Z39: 0351 8049944 | AA39: badminton@vfb-hellerau-klotzsche.de | AB39: https://vfb-hellerau-klotzsche.de/badminton/
A40: Verein für Breitensport Hellerau-Klotzsche e.V. | B40: Badminton | C40: 6 | D40: 10 | E40: männlich|weiblich|divers | F40: 17:00 | G40: 18:30 | H40: Dienstag | I40: 16:00 | J40: 17:30 | K40: Mittwoch | U40: Sporthalle 82. Grund- und Oberschule | V40: Gertrud-Caspari-Straße 9 | W40: 01109 | X40: Dresden | Y40: Karsten Teichmann | Z40: 0351 8049944 | AA40: badminton@vfb-hellerau-klotzsche.de | AB40: https://vfb-hellerau-klotzsche.de/badminton/
A41: Tanzstudio Dance Art Dresden e.V. | B41: Ballett | C41: 8 | D41: 99 | E41: männlich|weiblich|divers | F41: 16:30 | G41: 17:30 | H41: Montag | U41: Seidnitz Center | V41: Enderstraße 59 | W41: 01277 | X41: Dresden | Y41: Anke Frenzel | Z41: 01736757427 | AA41: info@dance-art-dresden.de | AB41: www.dance-art-dresden.de | AC41: Anfänger
A42: Tanzstudio Dance Art Dresden e.V. | B42: Ballett | C42: 12 | D42: 99 | E42: männlich|weiblich|divers | F42: 17:30 | G42: 19:00 | H42: Montag | U42: Seidnitz Center | V42: Enderstraße 59 | W42: 01277 | X42: Dresden | Y42: Anke Frenzel | Z42: 01736757427 | AA42: info@dance-art-dresden.de | AB42: www.dance-art-dresden.de | AC42: Fortgeschrittene
A43: Langebrücker Ballsportverein 99 e.V. | B43: Ballsport | C43: 4 | D43: 6 | E43: männlich|weiblich|divers | F43: 16:30 | G43: 17:30 | H43: Mittwoch | U43: Sporthalle Langebrück | V43: Dresdner Straße 36 a | W43: 01465 | X43: Dresden | Y43: Mike Neumann | Z43: 01575-1518332 | AA43: Faustball@Langebruecker-BSV.de | AB43: www.Langebruecker-BSV.de
A44: Baseball und Softball Dresden Dukes e.V. | B44: Baseball | C44: 8 | D44: 15 | E44: männlich|weiblich|divers | F44: 16:30 | G44: 18:30 | H44: Mittwoch | U44: Sportplatz Narzissenweg | V44: =VLOOKUP(U44,Sportstätten!A10:D283,2,0) -> Narzissenweg 9 | W44: =VLOOKUP(U44,[4]Sportstätten!A10:D283,3,0) -> 01259 | X44: =VLOOKUP(U44,[4]Sportstätten!A10:D283,4,0) -> Dresden | Y44: Christoph Ziener | AA44: training@dresdendukes.de | AB44: www.dresdendukes.de
...

Sheet Sportstätten
A1: Sportstätte | B1: Straße | C1: PLZ | D1: Stadt | F1: Vereinsname | G1: LSB-Nummer | H1: Sportart | I1: Alter | J1: Tag | K1: Zeit | L1: Geschlecht
A3: Sporthalle 56. Oberschule | B3: Aachener Straße 10 | C3: 01129 | D3: Dresden | F3: „Heilige Dreihornigkeit“ e. V.“ | G3: 410491 | H3: Aerobic | I3: 1 | L3: männlich
A4: Sportplatz Aachener Straße | B4: Aachener Straße 19 a | C4: 01129 | D4: Dresden | F4: 1. Dresdner Rock n Roll Club e.V. | G4: 410006 | H4: Aikido | I4: 2 | J4: Montag | K4: 06:00 | L4: weiblich
A5: Sporthalle Gymnasium Dreikönigschule | B5: Alaunstraße 32 | C5: 01099 | D5: Dresden | F5: 1. FFC Fortuna Dresden | G5: 410007 | H5: Akrobatik / Sportakrobatik | I5: 3 | J5: Dienstag | K5: 06:15 | L5: männlich|weiblich|divers
A6: Sporthalle ehem. 86. Mittelschule | B6: Alexander-Herzen-Straße 64 | C6: 01109 | D6: Dresden | F6: 1. Roundnet Club Dresden e.V. | G6: 410465 | H6: Allgemeine Sportgruppe | I6: 4 | J6: Mittwoch | K6: 06:30 | L6: weiblich|divers
A7: Sporthalle Oberschule Weixdorf | B7: Alte Dresdner Straße 22 | C7: 01108 | D7: Dresden | F7: 1.Squash Club Dresden e.V. | G7: 410013 | H7: American Football | I7: 5 | J7: Donnerstag | K7: 06:45 | L7: männlich|divers
A8: Sportplatz am Gemeindezentrum Gompitz | B8: Altnossener Straße 46 a | C8: 01156 | D8: Dresden | F8: 84'TIL - Zentrum für urbane Kultur e.V. | G8: 410459 | H8: Angeln / Sportfischen | I8: 6 | J8: Freitag | K8: 07:00
A9: Sporthalle AST des BSZ für Agrarwirtschaft und Ernährung | B9: Altroßthal 1 | C9: 01169 | D9: Dresden | F9: Aerobic & Tanzwerkstatt e.V. | G9: 410014 | H9: Aquafitness | I9: 7 | J9: Samstag | K9: 07:15
A10: Sportplatz "Am Dölzschgaben" | B10: Am Dölzschgraben 7 | C10: 01187 | D10: Dresden | F10: Akademische Sektion Dresden e.V. | G10: 410460 | H10: Australian Football | I10: 8 | J10: Sonntag | K10: 07:30
A11: Sporthalle 19. Grundschule | B11: Am Jägerpark 5 | C11: 01099 | D11: Dresden | F11: Aktiv mit Freunden e.V. | G11: 410475 | H11: Automobilsport | I11: 9 | K11: 07:45
A12: Sportplatz 19. Grundschule | B12: Am Jägerpark 5 | C12: 01099 | D12: Dresden | F12: Aktives Deutschland e.V. | G12: 410439 | H12: Badminton | I12: 10 | K12: 08:00
A13: Sporthalle 76. Grundschule | B13: Am Lehmberg 28 a | C13: 01157 | D13: Dresden | F13: Allgemeiner Sportverein Dresden-West e.V. | G13: 410016 | H13: Ballett | I13: 11 | K13: 08:15
A14: Sporthalle 77. Grundschule | B14: Am Urnenfeld 27 | C14: 01157 | D14: Dresden | F14: Allgemeiner SV Dresden 1998 e.V. | G14: 410017 | H14: Ballsport | I14: 12 | K14: 08:30
A15: Sportplatz 77. Grundschule | B15: Am Urnenfeld 27 | C15: 01157 | D15: Dresden | F15: Alpiner Skiclub Dresden e.V. | G15: 410019 | H15: Baseball | I15: 13 | K15: 08:45
A16: Sporthalle 135. Grundschule | B16: Amalie-Dietrich-Platz 10 | C16: 01169 | D16: Dresden | F16: Alpines-Ski-Team Dresden e.V. | G16: 410020 | H16: Basketball | I16: 14 | K16: 09:00
A17: Sportplatz 135. Grundschule | B17: Amalie-Dietrich-Platz 10 | C17: 01169 | D17: Dresden | F17: Armwrestling Club Dresden e. V. | G17: 410478 | H17: Bauchtanz | I17: 15 | K17: 09:15
A18: Sportplatz Oberpoyritz | B18: An der Schmiede 10 | C18: 01326 | D18: Dresden | F18: Arnis Dresden e.V. | G18: 410021 | H18: Bergsteigen | I18: 16 | K18: 09:30
A19: Sporthalle Andreas-Schubert-Straße | B19: Andreas-Schubert-Straße 41 | C19: 01069 | D19: Dresden | F19: Athletics Team Dresden e.V. | G19: 410494 | H19: Bewegungsschule | I19: 17 | K19: 09:45
A20: Tennisgelände Andreas-Schubert-Straße | B20: Andreas-Schubert-Straße 51 | C20: 01069 | D20: Dresden | F20: Aus Liebe zum Spiel - freier Streetballverein e.V. | G20: 410409 | H20: Biathlon | I20: 18 | K20: 10:00
A21: Sporthalle Internationale Schule | B21: Annenstraße 9 | C21: 01067 | D21: Dresden | F21: Badminton-Verein 57 Niedersedlitz e.V. | G21: 410023 | H21: Billard | I21: 19 | K21: 10:15
A22: Sporthalle August-Bebel-Straße | B22: August-Bebel-Straße 18 | C22: 01219 | D22: Dresden | F22: BallSportAthleten Dresden e.V. | G22: 410455 | H22: BMX | I22: 20 | K22: 10:30
... A76: Bootshaus Fidelio-F.-Finke-Straße | B76: Fidelio-F.-Finke-Straße 12 | C76: 01326 | D76: Dresden | F76: Dresdner Sportverein 1910 e.V. | G76: 410075 | H76: Kindersport | I76: 74 | K76: 00:00
A77: Sporthalle 62. Oberschule | B77: Fidelio-F.-Finke-Straße 15 | C77: 01326 | D77: Dresden | F77: Dresdner Sportverein 1953 e.V. | G77: 410074 | H77: Kinderturnen | I77: 75
A78: Sportplatz 62. Oberschule | B78: Fidelio-F.-Finke-Straße 15 | C78: 01326 | D78: Dresden | F78: Dresdner Sportverein Grün-Weiß 90 e.V. | G78: 410053 | H78: Kinderzirkus | I78: 76
A79: Sporthalle Förderzentrum für Körperbehinderte/Sprache | B79: Fischhausstraße 12 | C79: 01099 | D79: Dresden | F79: Dresdner SSV e.V. | G79: 410076 | H79: Klettern/Bouldern | I79: 77
A80: Sporthalle Forsythienstraße (ehem. 142.GS) | B80: Forsythienstraße 24 | C80: 01169 | D80: Dresden | F80: Dresdner SV Albertstadt 1991 e.V. | G80: 410077 | H80: Lacrosse | I80: 78
A81: Sporthalle 71. Grundschule | B81: Franzweg 4 | C81: 01217 | D81: Dresden | F81: Dresdner Wanderer- und Bergsteiger-Verein e.V. | G81: 410078 | H81: Laufsport | I81: 79
A82: Schwimmhalle Freiberger Platz | B82: Freiberger Platz 1 a | C82: 01067 | D82: Dresden | F82: EHV Dresden "The Devils" e.V. | G82: 410082 | H82: Leichtathletik | I82: 80
A83: Sprunghalle Freiberger Platz | B83: Freiberger Platz 1 a | C83: 01067 | D83: Dresden | F83: ESV Dresden e.V. | G83: 410083 | H83: Minigolf / Bahnengolf | I83: 81
A84: Büro- und Verwaltungsgebäude EBS | B84: Freiberger Str. 31 | C84: 01067 | D84: Dresden | F84: Eislauf-Verein Dresden e.V. | G84: 410084 | H84: Modelflugsport | I84: 82
A85: Sportplatz Loschwitz | B85: Friedrich-Wieck-Straße 32 | C85: 01326 | D85: Dresden | F85: Eissportclub Dresden e.V. | G85: 410085 | H85: Motorbootsport | I85: 83
A86: Sportplatz Grundschule Langebrück | B86: Friedrich-Wolf-Straße 7 | C86: 01465 | D86: Dresden | F86: Elbe Tigers Sports Club e.V. | G86: 410495 | H86: Motorradsport | I86: 84
A87: Sporthalle 153. Grundschule | B87: Fröbelstraße 1 | C87: 01159 | D87: Dresden | F87: Elbhang Volleyball e.V. | G87: 410086 | H87: Mountainbike | I87: 85
A88: Sporthalle 121. Oberschule | B88: Gamigstraße 28 | C88: 01239 | D88: Dresden | F88: Elferrat Gebau Dresden e.V. | G88: 410427 | H88: Musik- und Spielmannswesen | I88: 86
... A102: Sporthalle 15. Grundschule | B102: Görlitzer Straße 8 | C102: 01099 | D102: Dresden | F102: Förderverein Schach Wolfgang Uhlmann e.V. | G102: 410486 | H102: Rollski | I102: 100
A103: Sporthalle Förderzentrum "Am Leutewitzer Park" | B103: Gottfried-Keller-Straße 40 | C103: 01157 | D103: Dresden | F103: FSG WACKER 90 Dresden-Leuben e.V. | G103: 410099 | H103: Rope Skipping / Springseil
A104: Sporthalle 106. Grundschule | B104: Großenhainer Straße 187 | C104: 01129 | D104: Dresden | F104: FSV Lok Dresden e.V. | G104: 410374 | H104: Roundnet
A105: Sporthalle 92. Grundschule | B105: Großzschachwitzer Straße 29 | C105: 01259 | D105: Dresden | F105: Fudoshin-Ryu Karate Dresden e.V. | G105: 410411 | H105: Rudern
A106: Sporthalle BSZ für Bau und Technik | B106: Güntzstraße 3 | C106: 01069 | D106: Dresden | F106: Fußball Campus Dresden e.V. | G106: 410449 | H106: Rugby
A107: Bootshaus Hamburger Straße | B107: Hamburger Straße 84 | C107: 01157 | D107: Dresden | F107: Fußballfreunde Dresden 03 e.V. | G107: 410100 | H107: San Shou
...
